Package: packFinder Version: 1.18.0 Command: /home/biocbuild/R/R/bin/R CMD INSTALL packFinder StartedAt: 2025-02-03 21:01:55 -0000 (Mon, 03 Feb 2025) EndedAt: 2025-02-03 21:01:58 -0000 (Mon, 03 Feb 2025) EllapsedTime: 2.6 seconds RetCode: 0 Status: OK