Package: pageRank Version: 1.16.0 Command: /Library/Frameworks/R.framework/Resources/bin/R CMD build --keep-empty-dirs --no-resave-data pageRank StartedAt: 2025-02-17 21:09:27 -0500 (Mon, 17 Feb 2025) EndedAt: 2025-02-17 21:14:24 -0500 (Mon, 17 Feb 2025) EllapsedTime: 296.7 seconds RetCode: 0 Status: OK PackageFile: pageRank_1.16.0.tar.gz PackageFileSize: 122.5 <A href="http://en.wikipedia.org/wiki/KiB" target="_blank">KiB</A>