Package: pageRank Version: 1.16.0 Command: chmod a+r pageRank -R && F:\biocbuild\bbs-3.20-bioc\R\bin\R.exe CMD build --keep-empty-dirs --no-resave-data pageRank StartedAt: 2025-02-03 21:02:49 -0500 (Mon, 03 Feb 2025) EndedAt: 2025-02-03 21:05:10 -0500 (Mon, 03 Feb 2025) EllapsedTime: 140.5 seconds RetCode: 0 Status: OK PackageFile: pageRank_1.16.0.tar.gz PackageFileSize: 122.9 KiB