Package: paircompviz Version: 1.44.0 Command: /Library/Frameworks/R.framework/Resources/bin/R CMD build --keep-empty-dirs --no-resave-data paircompviz StartedAt: 2025-01-31 05:07:05 -0500 (Fri, 31 Jan 2025) EndedAt: 2025-01-31 05:07:30 -0500 (Fri, 31 Jan 2025) EllapsedTime: 25.4 seconds RetCode: 0 Status: OK PackageFile: paircompviz_1.44.0.tar.gz PackageFileSize: 354.1 KiB