Package: paircompviz Version: 1.44.0 Command: /Library/Frameworks/R.framework/Resources/bin/R CMD check --install=check:paircompviz.install-out.txt --library=/Library/Frameworks/R.framework/Resources/library --no-vignettes --timings paircompviz_1.44.0.tar.gz StartedAt: 2025-02-05 04:52:56 -0500 (Wed, 05 Feb 2025) EndedAt: 2025-02-05 04:53:36 -0500 (Wed, 05 Feb 2025) EllapsedTime: 39.4 seconds RetCode: 0 Status: OK CheckDir: paircompviz.Rcheck Warnings: 0