Package: paircompviz Version: 1.44.0 Command: /Library/Frameworks/R.framework/Resources/bin/R CMD build --keep-empty-dirs --no-resave-data paircompviz StartedAt: 2025-01-30 21:40:06 -0500 (Thu, 30 Jan 2025) EndedAt: 2025-01-30 21:40:50 -0500 (Thu, 30 Jan 2025) EllapsedTime: 43.8 seconds RetCode: 0 Status: OK PackageFile: paircompviz_1.44.0.tar.gz PackageFileSize: 354.1 KiB