Package: paircompviz Version: 1.44.0 Command: /Library/Frameworks/R.framework/Resources/bin/R CMD check --install=check:paircompviz.install-out.txt --library=/Library/Frameworks/R.framework/Resources/library --no-vignettes --timings paircompviz_1.44.0.tar.gz StartedAt: 2025-01-31 07:45:44 -0500 (Fri, 31 Jan 2025) EndedAt: 2025-01-31 07:47:37 -0500 (Fri, 31 Jan 2025) EllapsedTime: 113.4 seconds RetCode: 0 Status: OK CheckDir: paircompviz.Rcheck Warnings: 0