Package: paircompviz Version: 1.44.0 Command: /home/biocbuild/bbs-3.20-bioc/R/bin/R CMD build --keep-empty-dirs --no-resave-data --md5 paircompviz StartedAt: 2025-02-03 18:38:13 -0500 (Mon, 03 Feb 2025) EndedAt: 2025-02-03 18:38:40 -0500 (Mon, 03 Feb 2025) EllapsedTime: 26.0 seconds RetCode: 0 Status: OK PackageFile: paircompviz_1.44.0.tar.gz PackageFileSize: 354.7 KiB