Package: paircompviz Version: 1.44.0 Command: /home/biocbuild/bbs-3.20-bioc/R/bin/R CMD INSTALL paircompviz StartedAt: 2025-02-03 15:17:23 -0500 (Mon, 03 Feb 2025) EndedAt: 2025-02-03 15:17:36 -0500 (Mon, 03 Feb 2025) EllapsedTime: 13.3 seconds RetCode: 0 Status: OK