Package: paircompviz Version: 1.44.0 Command: rm -rf paircompviz.buildbin-libdir && mkdir paircompviz.buildbin-libdir && F:\biocbuild\bbs-3.20-bioc\R\bin\R.exe CMD INSTALL --build --library=paircompviz.buildbin-libdir paircompviz_1.44.0.tar.gz StartedAt: 2025-02-04 09:08:07 -0500 (Tue, 04 Feb 2025) EndedAt: 2025-02-04 09:08:28 -0500 (Tue, 04 Feb 2025) EllapsedTime: 21.7 seconds RetCode: 0 Status: OK PackageFile: paircompviz_1.44.0.zip PackageFileSize: 342.7 KiB