Package: paircompviz Version: 1.44.0 Command: /home/biocbuild/R/R/bin/R CMD check --install=check:paircompviz.install-out.txt --library=/home/biocbuild/R/R/site-library --no-vignettes --timings paircompviz_1.44.0.tar.gz StartedAt: 2025-02-04 09:39:25 -0000 (Tue, 04 Feb 2025) EndedAt: 2025-02-04 09:40:09 -0000 (Tue, 04 Feb 2025) EllapsedTime: 44.1 seconds RetCode: 0 Status: OK CheckDir: paircompviz.Rcheck Warnings: 0