Package: paircompviz Version: 1.44.0 Command: /home/biocbuild/R/R/bin/R CMD INSTALL paircompviz StartedAt: 2025-02-03 20:26:15 -0000 (Mon, 03 Feb 2025) EndedAt: 2025-02-03 20:26:42 -0000 (Mon, 03 Feb 2025) EllapsedTime: 27.0 seconds RetCode: 0 Status: OK