Package: pairedGSEA Version: 1.6.0 Command: rm -rf pairedGSEA.buildbin-libdir && mkdir pairedGSEA.buildbin-libdir && /Users/biocbuild/BBS/utils/build-universal.sh pairedGSEA_1.6.0.tar.gz /Library/Frameworks/R.framework/Resources/bin/R pairedGSEA.buildbin-libdir StartedAt: 2025-02-04 13:43:36 -0500 (Tue, 04 Feb 2025) EndedAt: 2025-02-04 13:45:42 -0500 (Tue, 04 Feb 2025) EllapsedTime: 126.4 seconds RetCode: 0 Status: OK PackageFile: pairedGSEA_1.6.0.tgz PackageFileSize: 650.5 KiB