Package: pairedGSEA Version: 1.6.0 Command: /Library/Frameworks/R.framework/Resources/bin/R CMD build --keep-empty-dirs --no-resave-data pairedGSEA StartedAt: 2025-02-03 21:07:08 -0500 (Mon, 03 Feb 2025) EndedAt: 2025-02-03 21:13:05 -0500 (Mon, 03 Feb 2025) EllapsedTime: 357.7 seconds RetCode: 0 Status: OK PackageFile: pairedGSEA_1.6.0.tar.gz PackageFileSize: 604.3 KiB