Package: pairedGSEA Version: 1.6.0 Command: /Library/Frameworks/R.framework/Resources/bin/R CMD check --install=check:pairedGSEA.install-out.txt --library=/Library/Frameworks/R.framework/Resources/library --no-vignettes --timings pairedGSEA_1.6.0.tar.gz StartedAt: 2025-02-04 07:42:46 -0500 (Tue, 04 Feb 2025) EndedAt: 2025-02-04 07:58:08 -0500 (Tue, 04 Feb 2025) EllapsedTime: 922.4 seconds RetCode: 0 Status: OK CheckDir: pairedGSEA.Rcheck Warnings: 0