Package: pairedGSEA Version: 1.6.0 Command: rm -rf pairedGSEA.buildbin-libdir && mkdir pairedGSEA.buildbin-libdir && F:\biocbuild\bbs-3.20-bioc\R\bin\R.exe CMD INSTALL --build --library=pairedGSEA.buildbin-libdir pairedGSEA_1.6.0.tar.gz StartedAt: 2025-02-04 09:08:08 -0500 (Tue, 04 Feb 2025) EndedAt: 2025-02-04 09:09:07 -0500 (Tue, 04 Feb 2025) EllapsedTime: 59.0 seconds RetCode: 0 Status: OK PackageFile: pairedGSEA_1.6.0.zip PackageFileSize: 570.7 KiB