Package: pairedGSEA Version: 1.6.0 Command: chmod a+r pairedGSEA -R && F:\biocbuild\bbs-3.20-bioc\R\bin\R.exe CMD build --keep-empty-dirs --no-resave-data pairedGSEA StartedAt: 2025-02-03 21:03:53 -0500 (Mon, 03 Feb 2025) EndedAt: 2025-02-03 21:06:36 -0500 (Mon, 03 Feb 2025) EllapsedTime: 162.6 seconds RetCode: 0 Status: OK PackageFile: pairedGSEA_1.6.0.tar.gz PackageFileSize: 517.8 KiB