Package: pairedGSEA Version: 1.6.0 Command: F:\biocbuild\bbs-3.20-bioc\R\bin\R.exe CMD INSTALL pairedGSEA StartedAt: 2025-02-03 17:02:11 -0500 (Mon, 03 Feb 2025) EndedAt: 2025-02-03 17:03:04 -0500 (Mon, 03 Feb 2025) EllapsedTime: 52.9 seconds RetCode: 0 Status: OK