Package: pairedGSEA Version: 1.6.0 Command: /home/biocbuild/R/R/bin/R CMD INSTALL pairedGSEA StartedAt: 2025-02-03 21:12:00 -0000 (Mon, 03 Feb 2025) EndedAt: 2025-02-03 21:12:42 -0000 (Mon, 03 Feb 2025) EllapsedTime: 42.3 seconds RetCode: 0 Status: OK