Package: pairkat Version: 1.12.0 Command: /Library/Frameworks/R.framework/Resources/bin/R CMD build --keep-empty-dirs --no-resave-data pairkat StartedAt: 2025-02-04 05:15:34 -0500 (Tue, 04 Feb 2025) EndedAt: 2025-02-04 05:18:09 -0500 (Tue, 04 Feb 2025) EllapsedTime: 155.1 seconds RetCode: 0 Status: OK PackageFile: pairkat_1.12.0.tar.gz PackageFileSize: 821.7 KiB