Package: pairkat Version: 1.12.0 Command: rm -rf pairkat.buildbin-libdir && mkdir pairkat.buildbin-libdir && /Users/biocbuild/BBS/utils/build-universal.sh pairkat_1.12.0.tar.gz /Library/Frameworks/R.framework/Resources/bin/R pairkat.buildbin-libdir StartedAt: 2024-11-20 04:41:44 -0500 (Wed, 20 Nov 2024) EndedAt: 2024-11-20 04:42:22 -0500 (Wed, 20 Nov 2024) EllapsedTime: 38.6 seconds RetCode: 0 Status: OK PackageFile: pairkat_1.12.0.tgz PackageFileSize: 854.4 KiB