Package: pairkat Version: 1.12.0 Command: /Library/Frameworks/R.framework/Resources/bin/R CMD build --keep-empty-dirs --no-resave-data pairkat StartedAt: 2025-02-03 21:07:27 -0500 (Mon, 03 Feb 2025) EndedAt: 2025-02-03 21:12:26 -0500 (Mon, 03 Feb 2025) EllapsedTime: 299.4 seconds RetCode: 0 Status: OK PackageFile: pairkat_1.12.0.tar.gz PackageFileSize: 827.9 KiB