Package: pairkat Version: 1.12.0 Command: /home/biocbuild/R/R/bin/R CMD build --keep-empty-dirs --no-resave-data pairkat StartedAt: 2025-02-04 01:43:23 -0000 (Tue, 04 Feb 2025) EndedAt: 2025-02-04 01:45:59 -0000 (Tue, 04 Feb 2025) EllapsedTime: 156.4 seconds RetCode: 0 Status: OK PackageFile: pairkat_1.12.0.tar.gz PackageFileSize: 844.6 KiB