Package: pairkat Version: 1.12.0 Command: /home/biocbuild/R/R/bin/R CMD INSTALL pairkat StartedAt: 2025-02-03 20:30:44 -0000 (Mon, 03 Feb 2025) EndedAt: 2025-02-03 20:31:14 -0000 (Mon, 03 Feb 2025) EllapsedTime: 29.9 seconds RetCode: 0 Status: OK