Package: pandaR Version: 1.38.0 Command: /Library/Frameworks/R.framework/Resources/bin/R CMD build --keep-empty-dirs --no-resave-data pandaR StartedAt: 2025-02-04 05:15:43 -0500 (Tue, 04 Feb 2025) EndedAt: 2025-02-04 05:16:21 -0500 (Tue, 04 Feb 2025) EllapsedTime: 38.3 seconds RetCode: 0 Status: OK PackageFile: pandaR_1.38.0.tar.gz PackageFileSize: 8.683 MiB