Package: pandaR Version: 1.38.0 Command: rm -rf pandaR.buildbin-libdir && mkdir pandaR.buildbin-libdir && F:\biocbuild\bbs-3.20-bioc\R\bin\R.exe CMD INSTALL --build --library=pandaR.buildbin-libdir pandaR_1.38.0.tar.gz StartedAt: 2025-02-04 09:08:17 -0500 (Tue, 04 Feb 2025) EndedAt: 2025-02-04 09:08:40 -0500 (Tue, 04 Feb 2025) EllapsedTime: 23.9 seconds RetCode: 0 Status: OK PackageFile: pandaR_1.38.0.zip PackageFileSize: 9.074 MiB