Package: pandaR Version: 1.38.0 Command: chmod a+r pandaR -R && F:\biocbuild\bbs-3.20-bioc\R\bin\R.exe CMD build --keep-empty-dirs --no-resave-data pandaR StartedAt: 2025-02-03 21:04:15 -0500 (Mon, 03 Feb 2025) EndedAt: 2025-02-03 21:05:23 -0500 (Mon, 03 Feb 2025) EllapsedTime: 67.2 seconds RetCode: 0 Status: OK PackageFile: pandaR_1.38.0.tar.gz PackageFileSize: 8.658 MiB