Package: pandaR Version: 1.38.0 Command: F:\biocbuild\bbs-3.20-bioc\R\bin\R.exe CMD INSTALL pandaR StartedAt: 2025-02-03 15:43:35 -0500 (Mon, 03 Feb 2025) EndedAt: 2025-02-03 15:44:03 -0500 (Mon, 03 Feb 2025) EllapsedTime: 27.9 seconds RetCode: 0 Status: OK