Package: panelcn.mops Version: 1.28.0 Command: /Library/Frameworks/R.framework/Resources/bin/R CMD build --keep-empty-dirs --no-resave-data panelcn.mops StartedAt: 2025-02-04 05:16:21 -0500 (Tue, 04 Feb 2025) EndedAt: 2025-02-04 05:16:57 -0500 (Tue, 04 Feb 2025) EllapsedTime: 35.9 seconds RetCode: 0 Status: OK PackageFile: panelcn.mops_1.28.0.tar.gz PackageFileSize: 609 KiB