Package: panelcn.mops Version: 1.28.0 Command: rm -rf panelcn.mops.buildbin-libdir && mkdir panelcn.mops.buildbin-libdir && F:\biocbuild\bbs-3.20-bioc\R\bin\R.exe CMD INSTALL --build --library=panelcn.mops.buildbin-libdir panelcn.mops_1.28.0.tar.gz StartedAt: 2025-02-18 08:44:16 -0500 (Tue, 18 Feb 2025) EndedAt: 2025-02-18 08:44:51 -0500 (Tue, 18 Feb 2025) EllapsedTime: 35.1 seconds RetCode: 0 Status: OK PackageFile: panelcn.mops_1.28.0.zip PackageFileSize: 431.6 <A href="http://en.wikipedia.org/wiki/KiB" target="_blank">KiB</A>