Package: panelcn.mops Version: 1.28.0 Command: /home/biocbuild/R/R/bin/R CMD build --keep-empty-dirs --no-resave-data panelcn.mops StartedAt: 2025-02-04 01:44:09 -0000 (Tue, 04 Feb 2025) EndedAt: 2025-02-04 01:44:46 -0000 (Tue, 04 Feb 2025) EllapsedTime: 37.1 seconds RetCode: 0 Status: OK PackageFile: panelcn.mops_1.28.0.tar.gz PackageFileSize: 602.4 KiB