Package: panp Version: 1.76.0 Command: rm -rf panp.buildbin-libdir && mkdir panp.buildbin-libdir && /Users/biocbuild/BBS/utils/build-universal.sh panp_1.76.0.tar.gz /Library/Frameworks/R.framework/Resources/bin/R panp.buildbin-libdir StartedAt: 2025-02-05 17:04:38 -0500 (Wed, 05 Feb 2025) EndedAt: 2025-02-05 17:04:44 -0500 (Wed, 05 Feb 2025) EllapsedTime: 5.7 seconds RetCode: 0 Status: OK PackageFile: panp_1.76.0.tgz PackageFileSize: 684.2 KiB