Package: panp Version: 1.76.0 Command: /Library/Frameworks/R.framework/Resources/bin/R CMD build --keep-empty-dirs --no-resave-data panp StartedAt: 2025-02-04 05:17:23 -0500 (Tue, 04 Feb 2025) EndedAt: 2025-02-04 05:17:40 -0500 (Tue, 04 Feb 2025) EllapsedTime: 17.3 seconds RetCode: 0 Status: OK PackageFile: panp_1.76.0.tar.gz PackageFileSize: 671.4 KiB