Package: panp Version: 1.76.0 Command: /Library/Frameworks/R.framework/Resources/bin/R CMD build --keep-empty-dirs --no-resave-data panp StartedAt: 2025-02-03 21:08:48 -0500 (Mon, 03 Feb 2025) EndedAt: 2025-02-03 21:09:33 -0500 (Mon, 03 Feb 2025) EllapsedTime: 45.1 seconds RetCode: 0 Status: OK PackageFile: panp_1.76.0.tar.gz PackageFileSize: 671.5 KiB