Package: panp Version: 1.76.0 Command: /home/biocbuild/bbs-3.20-bioc/R/bin/R CMD build --keep-empty-dirs --no-resave-data --md5 panp StartedAt: 2025-02-03 18:39:38 -0500 (Mon, 03 Feb 2025) EndedAt: 2025-02-03 18:39:54 -0500 (Mon, 03 Feb 2025) EllapsedTime: 16.0 seconds RetCode: 0 Status: OK PackageFile: panp_1.76.0.tar.gz PackageFileSize: 672.1 KiB