Package: panp Version: 1.76.0 Command: rm -rf panp.buildbin-libdir && mkdir panp.buildbin-libdir && F:\biocbuild\bbs-3.20-bioc\R\bin\R.exe CMD INSTALL --build --library=panp.buildbin-libdir panp_1.76.0.tar.gz StartedAt: 2025-02-04 09:08:30 -0500 (Tue, 04 Feb 2025) EndedAt: 2025-02-04 09:08:39 -0500 (Tue, 04 Feb 2025) EllapsedTime: 8.8 seconds RetCode: 0 Status: OK PackageFile: panp_1.76.0.zip PackageFileSize: 529.1 KiB