Package: panp Version: 1.76.0 Command: /home/biocbuild/R/R/bin/R CMD check --install=check:panp.install-out.txt --library=/home/biocbuild/R/R/site-library --no-vignettes --timings panp_1.76.0.tar.gz StartedAt: 2025-02-04 09:42:42 -0000 (Tue, 04 Feb 2025) EndedAt: 2025-02-04 09:43:38 -0000 (Tue, 04 Feb 2025) EllapsedTime: 55.3 seconds RetCode: 0 Status: OK CheckDir: panp.Rcheck Warnings: 0