Package: panp Version: 1.76.0 Command: /home/biocbuild/R/R/bin/R CMD INSTALL panp StartedAt: 2025-02-03 20:24:29 -0000 (Mon, 03 Feb 2025) EndedAt: 2025-02-03 20:24:54 -0000 (Mon, 03 Feb 2025) EllapsedTime: 25.6 seconds RetCode: 0 Status: OK