Package: panp Version: 1.76.0 Command: /home/biocbuild/bbs-3.20-bioc/R/bin/R CMD build --keep-empty-dirs --no-resave-data panp StartedAt: 2024-11-19 20:45:02 -0500 (Tue, 19 Nov 2024) EndedAt: 2024-11-19 20:45:20 -0500 (Tue, 19 Nov 2024) EllapsedTime: 18.2 seconds RetCode: 0 Status: OK PackageFile: panp_1.76.0.tar.gz PackageFileSize: 671.6 KiB