Package: pareg
Version: 1.9.0
Command: /Library/Frameworks/R.framework/Resources/bin/R CMD check --install=check:pareg.install-out.txt --library=/Library/Frameworks/R.framework/Resources/library --no-vignettes --timings pareg_1.9.0.tar.gz
StartedAt: 2024-06-10 07:43:32 -0400 (Mon, 10 Jun 2024)
EndedAt: 2024-06-10 07:52:32 -0400 (Mon, 10 Jun 2024)
EllapsedTime: 539.9 seconds
RetCode: 0
Status: OK
CheckDir: pareg.Rcheck
Warnings: 0