Package: pareg Version: 1.10.0 Command: /home/biocbuild/bbs-3.20-bioc/R/bin/R CMD build --keep-empty-dirs --no-resave-data --md5 pareg StartedAt: 2025-02-03 18:39:59 -0500 (Mon, 03 Feb 2025) EndedAt: 2025-02-03 18:41:38 -0500 (Mon, 03 Feb 2025) EllapsedTime: 99.1 seconds RetCode: 1 Status: ERROR PackageFile: None PackageFileSize: NA