Package: pareg Version: 1.10.0 Command: /home/biocbuild/bbs-3.20-bioc/R/bin/R CMD INSTALL pareg StartedAt: 2025-02-03 15:51:04 -0500 (Mon, 03 Feb 2025) EndedAt: 2025-02-03 15:51:23 -0500 (Mon, 03 Feb 2025) EllapsedTime: 19.2 seconds RetCode: 0 Status: OK