Package: parglms Version: 1.38.0 Command: rm -rf parglms.buildbin-libdir && mkdir parglms.buildbin-libdir && /Users/biocbuild/BBS/utils/build-universal.sh parglms_1.38.0.tar.gz /Library/Frameworks/R.framework/Resources/bin/R parglms.buildbin-libdir StartedAt: 2025-02-05 17:04:44 -0500 (Wed, 05 Feb 2025) EndedAt: 2025-02-05 17:04:51 -0500 (Wed, 05 Feb 2025) EllapsedTime: 6.8 seconds RetCode: 0 Status: OK PackageFile: parglms_1.38.0.tgz PackageFileSize: 294.7 KiB