Package: parglms Version: 1.38.0 Command: /Library/Frameworks/R.framework/Resources/bin/R CMD INSTALL parglms StartedAt: 2025-02-03 16:18:11 -0500 (Mon, 03 Feb 2025) EndedAt: 2025-02-03 16:18:17 -0500 (Mon, 03 Feb 2025) EllapsedTime: 5.8 seconds RetCode: 0 Status: OK