Package: parglms Version: 1.38.0 Command: rm -rf parglms.buildbin-libdir && mkdir parglms.buildbin-libdir && /Users/biocbuild/BBS/utils/build-universal.sh parglms_1.38.0.tar.gz /Library/Frameworks/R.framework/Resources/bin/R parglms.buildbin-libdir StartedAt: 2025-02-04 13:44:15 -0500 (Tue, 04 Feb 2025) EndedAt: 2025-02-04 13:44:37 -0500 (Tue, 04 Feb 2025) EllapsedTime: 21.9 seconds RetCode: 0 Status: OK PackageFile: parglms_1.38.0.tgz PackageFileSize: 294.6 KiB