Package: parglms
Version: 1.38.0
Command: rm -rf parglms.buildbin-libdir && mkdir parglms.buildbin-libdir && F:\biocbuild\bbs-3.20-bioc\R\bin\R.exe CMD INSTALL --build --library=parglms.buildbin-libdir parglms_1.38.0.tar.gz
StartedAt: 2025-02-18 08:44:26 -0500 (Tue, 18 Feb 2025)
EndedAt: 2025-02-18 08:44:39 -0500 (Tue, 18 Feb 2025)
EllapsedTime: 13.3 seconds
RetCode: 0
Status: OK
PackageFile: parglms_1.38.0.zip
PackageFileSize: 301.8 <A href="http://en.wikipedia.org/wiki/KiB" target="_blank">KiB</A>