Package: parglms Version: 1.38.0 Command: /home/biocbuild/R/R/bin/R CMD check --install=check:parglms.install-out.txt --library=/home/biocbuild/R/R/site-library --no-vignettes --timings parglms_1.38.0.tar.gz StartedAt: 2025-02-04 09:42:48 -0000 (Tue, 04 Feb 2025) EndedAt: 2025-02-04 09:43:50 -0000 (Tue, 04 Feb 2025) EllapsedTime: 61.2 seconds RetCode: 0 Status: OK CheckDir: parglms.Rcheck Warnings: 0