Package: parglms Version: 1.38.0 Command: /home/biocbuild/bbs-3.20-bioc/R/bin/R CMD INSTALL parglms StartedAt: 2024-11-19 16:18:00 -0500 (Tue, 19 Nov 2024) EndedAt: 2024-11-19 16:18:04 -0500 (Tue, 19 Nov 2024) EllapsedTime: 3.8 seconds RetCode: 0 Status: OK