Package: parody Version: 1.64.0 Command: /Library/Frameworks/R.framework/Resources/bin/R CMD check --install=check:parody.install-out.txt --library=/Library/Frameworks/R.framework/Resources/library --no-vignettes --timings parody_1.64.0.tar.gz StartedAt: 2025-02-05 04:56:31 -0500 (Wed, 05 Feb 2025) EndedAt: 2025-02-05 04:56:58 -0500 (Wed, 05 Feb 2025) EllapsedTime: 26.6 seconds RetCode: 0 Status: OK CheckDir: parody.Rcheck Warnings: 0