Package: partCNV Version: 1.4.0 Command: /Library/Frameworks/R.framework/Resources/bin/R CMD build --keep-empty-dirs --no-resave-data partCNV StartedAt: 2025-02-03 21:09:33 -0500 (Mon, 03 Feb 2025) EndedAt: 2025-02-03 21:13:13 -0500 (Mon, 03 Feb 2025) EllapsedTime: 219.9 seconds RetCode: 0 Status: OK PackageFile: partCNV_1.4.0.tar.gz PackageFileSize: 4.659 MiB